BEGIN:VCALENDAR
VERSION:2.0
PRODID:-//The Ector Theatre - ECPv6.15.20//NONSGML v1.0//EN
CALSCALE:GREGORIAN
METHOD:PUBLISH
X-WR-CALNAME:The Ector Theatre
X-ORIGINAL-URL:https://theector.com
X-WR-CALDESC:Events for The Ector Theatre
REFRESH-INTERVAL;VALUE=DURATION:PT1H
X-Robots-Tag:noindex
X-PUBLISHED-TTL:PT1H
BEGIN:VTIMEZONE
TZID:America/Chicago
BEGIN:DAYLIGHT
TZOFFSETFROM:-0600
TZOFFSETTO:-0500
TZNAME:CDT
DTSTART:20240310T080000
END:DAYLIGHT
BEGIN:STANDARD
TZOFFSETFROM:-0500
TZOFFSETTO:-0600
TZNAME:CST
DTSTART:20241103T070000
END:STANDARD
BEGIN:DAYLIGHT
TZOFFSETFROM:-0600
TZOFFSETTO:-0500
TZNAME:CDT
DTSTART:20250309T080000
END:DAYLIGHT
BEGIN:STANDARD
TZOFFSETFROM:-0500
TZOFFSETTO:-0600
TZNAME:CST
DTSTART:20251102T070000
END:STANDARD
BEGIN:DAYLIGHT
TZOFFSETFROM:-0600
TZOFFSETTO:-0500
TZNAME:CDT
DTSTART:20260308T080000
END:DAYLIGHT
BEGIN:STANDARD
TZOFFSETFROM:-0500
TZOFFSETTO:-0600
TZNAME:CST
DTSTART:20261101T070000
END:STANDARD
END:VTIMEZONE
BEGIN:VEVENT
DTSTART;TZID=America/Chicago:20250322T190000
DTEND;TZID=America/Chicago:20250322T213000
DTSTAMP:20260425T115116
CREATED:20250117T000024Z
LAST-MODIFIED:20250321T212225Z
UID:245450-1742670000-1742679000@theector.com
SUMMARY:MC Magic\, Baby Bash & Lil Rob
DESCRIPTION:This show is SOLD OUT! See you Saturday night! \nGet ready to experience an unforgettable night at the iconic Ector Theatre on Saturday\, March 22\, 2025! Join us for an electrifying performance featuring the legendary MC Magic\, the smooth sounds of Baby Bash\, and the unforgettable Lil Rob. \nDon’t miss your chance to vibe to their greatest hits in Odessa\, Texas. This is the concert of the year that you absolutely cannot afford to miss! Grab your friends and get ready for a night filled with amazing music and unforgettable memories!
URL:https://theector.com/event/mc-magic-baby-bash-lil-rob/
LOCATION:The Ector Theatre\, 500 N Texas Ave\, Odessa\, TX\, 79761\, United States
ATTACH;FMTTYPE=image/png:https://theector.com/wp-content/uploads/2025/01/MC-Magic-Sold-Out.png
ORGANIZER;CN="The Ector Theatre":MAILTO:adam@theector.com
END:VEVENT
END:VCALENDAR