BEGIN:VCALENDAR
VERSION:2.0
PRODID:-//The Ector Theatre - ECPv6.15.20//NONSGML v1.0//EN
CALSCALE:GREGORIAN
METHOD:PUBLISH
X-WR-CALNAME:The Ector Theatre
X-ORIGINAL-URL:https://theector.com
X-WR-CALDESC:Events for The Ector Theatre
REFRESH-INTERVAL;VALUE=DURATION:PT1H
X-Robots-Tag:noindex
X-PUBLISHED-TTL:PT1H
BEGIN:VTIMEZONE
TZID:America/Chicago
BEGIN:DAYLIGHT
TZOFFSETFROM:-0600
TZOFFSETTO:-0500
TZNAME:CDT
DTSTART:20240310T080000
END:DAYLIGHT
BEGIN:STANDARD
TZOFFSETFROM:-0500
TZOFFSETTO:-0600
TZNAME:CST
DTSTART:20241103T070000
END:STANDARD
BEGIN:DAYLIGHT
TZOFFSETFROM:-0600
TZOFFSETTO:-0500
TZNAME:CDT
DTSTART:20250309T080000
END:DAYLIGHT
BEGIN:STANDARD
TZOFFSETFROM:-0500
TZOFFSETTO:-0600
TZNAME:CST
DTSTART:20251102T070000
END:STANDARD
BEGIN:DAYLIGHT
TZOFFSETFROM:-0600
TZOFFSETTO:-0500
TZNAME:CDT
DTSTART:20260308T080000
END:DAYLIGHT
BEGIN:STANDARD
TZOFFSETFROM:-0500
TZOFFSETTO:-0600
TZNAME:CST
DTSTART:20261101T070000
END:STANDARD
END:VTIMEZONE
BEGIN:VEVENT
DTSTART;TZID=America/Chicago:20250607T190000
DTEND;TZID=America/Chicago:20250607T213000
DTSTAMP:20260424T205220
CREATED:20250422T160332Z
LAST-MODIFIED:20250423T145904Z
UID:245513-1749322800-1749331800@theector.com
SUMMARY:Odessa's Got Talent
DESCRIPTION:Join us to watch the Best of the Best compete live in front of a distinguished judges panel as they compete for cash prizes! A distinguished judges’ panel will determine the winners of each category and audience members will be able to vote on the overall winner\, the coveted People’s Choice Award. \nMark your calendars to support the Permian Basin Mission Center’s fundraiser\, Odessa’s Got Talent!
URL:https://theector.com/event/odessas-got-talent-3/
LOCATION:The Ector Theatre\, 500 N Texas Ave\, Odessa\, TX\, 79761\, United States
ATTACH;FMTTYPE=image/png:https://theector.com/wp-content/uploads/2025/04/OGT-2025.png
ORGANIZER;CN="The Ector Theatre":MAILTO:adam@theector.com
END:VEVENT
END:VCALENDAR