BEGIN:VCALENDAR
VERSION:2.0
PRODID:-//The Ector Theatre - ECPv6.15.20//NONSGML v1.0//EN
CALSCALE:GREGORIAN
METHOD:PUBLISH
X-WR-CALNAME:The Ector Theatre
X-ORIGINAL-URL:https://theector.com
X-WR-CALDESC:Events for The Ector Theatre
REFRESH-INTERVAL;VALUE=DURATION:PT1H
X-Robots-Tag:noindex
X-PUBLISHED-TTL:PT1H
BEGIN:VTIMEZONE
TZID:America/Chicago
BEGIN:DAYLIGHT
TZOFFSETFROM:-0600
TZOFFSETTO:-0500
TZNAME:CDT
DTSTART:20250309T080000
END:DAYLIGHT
BEGIN:STANDARD
TZOFFSETFROM:-0500
TZOFFSETTO:-0600
TZNAME:CST
DTSTART:20251102T070000
END:STANDARD
BEGIN:DAYLIGHT
TZOFFSETFROM:-0600
TZOFFSETTO:-0500
TZNAME:CDT
DTSTART:20260308T080000
END:DAYLIGHT
BEGIN:STANDARD
TZOFFSETFROM:-0500
TZOFFSETTO:-0600
TZNAME:CST
DTSTART:20261101T070000
END:STANDARD
BEGIN:DAYLIGHT
TZOFFSETFROM:-0600
TZOFFSETTO:-0500
TZNAME:CDT
DTSTART:20270314T080000
END:DAYLIGHT
BEGIN:STANDARD
TZOFFSETFROM:-0500
TZOFFSETTO:-0600
TZNAME:CST
DTSTART:20271107T070000
END:STANDARD
END:VTIMEZONE
BEGIN:VEVENT
DTSTART;TZID=America/Chicago:20260808T210000
DTEND;TZID=America/Chicago:20260808T223000
DTSTAMP:20260422T141025
CREATED:20260413T211339Z
LAST-MODIFIED:20260413T211339Z
UID:245612-1786222800-1786228200@theector.com
SUMMARY:Z-RO
DESCRIPTION:Prepare for an electrifying night as the legendary Z-RO takes the stage at the iconic Ector Theatre on Saturday\, August 8th\, 2026. Experience the energy\, excitement\, and memorable music—secure your tickets now for a show you won’t want to miss!
URL:https://theector.com/event/z-ro/
LOCATION:The Ector Theatre\, 500 N Texas Ave\, Odessa\, TX\, 79761\, United States
ATTACH;FMTTYPE=image/png:https://theector.com/wp-content/uploads/2026/04/Z-RO.png
ORGANIZER;CN="The Ector Theatre":MAILTO:adam@theector.com
END:VEVENT
END:VCALENDAR