BEGIN:VCALENDAR
VERSION:2.0
PRODID:-//The Ector Theatre - ECPv6.15.20//NONSGML v1.0//EN
CALSCALE:GREGORIAN
METHOD:PUBLISH
X-WR-CALNAME:The Ector Theatre
X-ORIGINAL-URL:https://theector.com
X-WR-CALDESC:Events for The Ector Theatre
REFRESH-INTERVAL;VALUE=DURATION:PT1H
X-Robots-Tag:noindex
X-PUBLISHED-TTL:PT1H
BEGIN:VTIMEZONE
TZID:America/Chicago
BEGIN:DAYLIGHT
TZOFFSETFROM:-0600
TZOFFSETTO:-0500
TZNAME:CDT
DTSTART:20250309T080000
END:DAYLIGHT
BEGIN:STANDARD
TZOFFSETFROM:-0500
TZOFFSETTO:-0600
TZNAME:CST
DTSTART:20251102T070000
END:STANDARD
BEGIN:DAYLIGHT
TZOFFSETFROM:-0600
TZOFFSETTO:-0500
TZNAME:CDT
DTSTART:20260308T080000
END:DAYLIGHT
BEGIN:STANDARD
TZOFFSETFROM:-0500
TZOFFSETTO:-0600
TZNAME:CST
DTSTART:20261101T070000
END:STANDARD
BEGIN:DAYLIGHT
TZOFFSETFROM:-0600
TZOFFSETTO:-0500
TZNAME:CDT
DTSTART:20270314T080000
END:DAYLIGHT
BEGIN:STANDARD
TZOFFSETFROM:-0500
TZOFFSETTO:-0600
TZNAME:CST
DTSTART:20271107T070000
END:STANDARD
END:VTIMEZONE
BEGIN:VEVENT
DTSTART;TZID=America/Chicago:20260501T190000
DTEND;TZID=America/Chicago:20260501T203000
DTSTAMP:20260422T122304
CREATED:20260406T155702Z
LAST-MODIFIED:20260406T160706Z
UID:245601-1777662000-1777667400@theector.com
SUMMARY:Black Magic Presents: A Night of Disney Magic - Day 1
DESCRIPTION:Black Magic presents “A Night of Disney Magic!” \nOur students have been working so hard to create a performance full of magic\, energy\, and all your favorite Disney moments—you won’t want to miss it! \nBring your family\, and invite your friends so everyone can experience the magic with us!
URL:https://theector.com/event/black-magic-presents-a-night-of-disney-magic-day-1/
LOCATION:The Ector Theatre\, 500 N Texas Ave\, Odessa\, TX\, 79761\, United States
ATTACH;FMTTYPE=image/png:https://theector.com/wp-content/uploads/2026/04/BM-Day-1-1.png
ORGANIZER;CN="The Ector Theatre":MAILTO:adam@theector.com
END:VEVENT
BEGIN:VEVENT
DTSTART;TZID=America/Chicago:20260502T190000
DTEND;TZID=America/Chicago:20260502T203000
DTSTAMP:20260422T122304
CREATED:20260406T155836Z
LAST-MODIFIED:20260406T160740Z
UID:245604-1777748400-1777753800@theector.com
SUMMARY:Black Magic Presents: A Night of Disney Magic - Day 2
DESCRIPTION:Black Magic presents “A Night of Disney Magic!” \nOur students have been working so hard to create a performance full of magic\, energy\, and all your favorite Disney moments—you won’t want to miss it! \nBring your family\, and invite your friends so everyone can experience the magic with us!
URL:https://theector.com/event/black-magic-presents-a-night-of-disney-magic-day-2/
LOCATION:The Ector Theatre\, 500 N Texas Ave\, Odessa\, TX\, 79761\, United States
ATTACH;FMTTYPE=image/png:https://theector.com/wp-content/uploads/2026/04/BM-Day-2-1.png
ORGANIZER;CN="The Ector Theatre":MAILTO:adam@theector.com
END:VEVENT
BEGIN:VEVENT
DTSTART;TZID=America/Chicago:20260808T210000
DTEND;TZID=America/Chicago:20260808T223000
DTSTAMP:20260422T122304
CREATED:20260413T211339Z
LAST-MODIFIED:20260413T211339Z
UID:245612-1786222800-1786228200@theector.com
SUMMARY:Z-RO
DESCRIPTION:Prepare for an electrifying night as the legendary Z-RO takes the stage at the iconic Ector Theatre on Saturday\, August 8th\, 2026. Experience the energy\, excitement\, and memorable music—secure your tickets now for a show you won’t want to miss!
URL:https://theector.com/event/z-ro/
LOCATION:The Ector Theatre\, 500 N Texas Ave\, Odessa\, TX\, 79761\, United States
ATTACH;FMTTYPE=image/png:https://theector.com/wp-content/uploads/2026/04/Z-RO.png
ORGANIZER;CN="The Ector Theatre":MAILTO:adam@theector.com
END:VEVENT
BEGIN:VEVENT
DTSTART;TZID=America/Chicago:20260926T200000
DTEND;TZID=America/Chicago:20260926T223000
DTSTAMP:20260422T122304
CREATED:20260306T155633Z
LAST-MODIFIED:20260306T155633Z
UID:245591-1790452800-1790461800@theector.com
SUMMARY:Perritos Only Presents: That’s Not Me Comedy Tour Featuring Concrete & Jerry Garcia
DESCRIPTION:Experience a memorable evening of electrifying comedy as Concrete & Jerry Garcia take the stage in downtown Odessa\, Texas! Join us Saturday\, September 26th\, 2026\, at the iconic Ector Theatre for a show packed with energy\, excitement\, and endless laughter.\n\nConcrete Bio\n\nCristian Gutierrez\, better known as Concrete\, has cultivated a dynamic and diverse creative journey. His upbringing in the San Fernando Valley shaped the eclectic artistry that defines his work today. From music and film to social media and stand-up comedy\, Concrete has risen to the top ranks of entertainment in a city built on innovation. \nAs an artist\, Concrete honed his skills in hip-hop early on—producing\, rapping\, and earning national attention with tracks like Certified Kush and We Can Make It Rain\, which received airplay on Power 106 in Los Angeles and 35 other stations across the country. He’s shared stages with major acts and performed at venues such as the Vans Warped Tour and House of Blues. \nIn the world of film\, Concrete spent over a decade directing and shooting for some of today’s biggest artists\, including Baby Bash\, Chiquis\, C-Kan\, Damian Marley\, Frankie J\, MC Magic\, Peso Pluma\, and many more. His directorial and cinematography work has surpassed 500 million views across platforms\, making him a sought-after visual storyteller. \nConcrete’s acting career began around 2010\, landing roles in TV and film—including FX’s Wilfred and the HBO-featured Green Card Warriors. He recently starred in Horchata & Oatmilk (2025) and is set to appear in his first major studio release under Sony Pictures: Clika\, produced by Rancho Humilde. \nCurrently\, Concrete is also taking over the airwaves as a co-host of Brown Bag Mornings on Power 106—one of Los Angeles’ most beloved radio shows. Across social media\, he’s built a loyal following of over 1.8 million fans\, creating thousands of comedic videos and landing sponsorships with brands like McDonald’s\, Chevy\, and The Buffalo Spot. \nNow with selling out Comedy shows nationwide\, he’s become a standout in the stand-up scene\, consistently selling out shows across the country and bringing his unique voice to stages nationwide. Concrete continues to dominate every platform he steps on—from radio to stage\, from film to digital media. \n\nJerry Garcia Bio \nJerry Garcia has stormed his way onto the national comedy scene as one of the top-rated comedians and is truly a must-see performer. A father of three boys\, Jerry allows us to enter his world and laugh hysterically with his charm\, witty puns\, and punchlines using his young\, hip\, real-life flavor that easily crosses over to all audiences. His views on life\, relationships\, his modest upbringings and everyday struggles captivate audiences from all walks of life. No matter where you’re from\, the jokes hit home. \nJerry’s presence\, strong delivery\, and likability on stage help him connect and interact with audience members in the most memorable way. Fans leave Jerry’s performances with the feeling of having met a new funny friend. \nJerry Garcia’s credits continue to grow year after year\, beginning in 2016 with Fox’s Laughs comedy series. In 2017\, Jerry made his Netflix debut co-starring in Chingo Bling’s “They Can’t Deport Us All” Comedy Special. In 2018\, Jerry continued to rise as he made his HBO debut on “Entre Nos” Comedy Series. A stand-alone HBO Max comedy special appropriately titled “It’s Not My Weekend” premiered in the summer of 2019. Earlier in 2019\, Jerry crossed over to acting in 2023 Guest Starring on George Lopez sitcom Lopez vs Lopez. \nOther Credits: \n– 2015 Armed Forces Ent: Turkey\, Jordan\, Syria\, and Greece. \n– 2016 San Diego Comedy Festival; Best Comedian Award. \n– 2017 LA’s Funniest Comic Contest: First Place. \n– 2017 They Can’t Deport Us All – Netflix \n– 2019 Ploey Animated Film \n– 2019 Entre Nos Comedy Special HBO MAX \n– 2020 “It’s Not My Weekend” HBO MAX Comedy Special \n– 2021 Imagen Award Nominee (Best Reality – Comedy Special) \n– 2021 King of Downey; Sitcom (Pilot) \n– 2023 Sitcom; Lopez vs Lopez – NBC/Peacock \nPresent: \n– Latin Kings of Comedy Tour \n– American Wannabes Podcast \n– Tragos Amargos Podcast \n– Los Toxicos Comedy Tour
URL:https://theector.com/event/perritos-only-presents-thats-not-me-comedy-tour-featuring-concrete-jerry-garcia/
LOCATION:The Ector Theatre\, 500 N Texas Ave\, Odessa\, TX\, 79761\, United States
ATTACH;FMTTYPE=image/jpeg:https://theector.com/wp-content/uploads/2026/03/IMG_20260305_015208.jpg
ORGANIZER;CN="The Ector Theatre":MAILTO:adam@theector.com
END:VEVENT
BEGIN:VEVENT
DTSTART;TZID=America/Chicago:20260926T200000
DTEND;TZID=America/Chicago:20260926T223000
DTSTAMP:20260422T122304
CREATED:20260306T155645Z
LAST-MODIFIED:20260306T155645Z
UID:245593-1790452800-1790461800@theector.com
SUMMARY:That’s Not Me Comedy Tour MEET & GREET
DESCRIPTION:Enhance your That’s Not Me Comedy Tour experience by adding a Meet & Greet (after the Show) to your existing ticket purchase! \nPlease note that Meet & greet tickets are an add-on and do not replace your Show ticket—you’ll need BOTH for entry. \nDon’t miss this Chance for an exclusive moment! Don’t miss out—secure yours now!
URL:https://theector.com/event/thats-not-me-comedy-tour-meet-greet/
LOCATION:The Ector Theatre\, 500 N Texas Ave\, Odessa\, TX\, 79761\, United States
ATTACH;FMTTYPE=image/jpeg:https://theector.com/wp-content/uploads/2026/03/IMG_20260305_015208.jpg
ORGANIZER;CN="The Ector Theatre":MAILTO:adam@theector.com
END:VEVENT
END:VCALENDAR